############################################################################## ############################################################################## ### ### Running command: ### ### /home/biocbuild/bbs-3.23-bioc/R/bin/R CMD build --keep-empty-dirs --no-resave-data GUIDEseq ### ############################################################################## ############################################################################## * checking for file ‘GUIDEseq/DESCRIPTION’ ... OK * preparing ‘GUIDEseq’: * checking DESCRIPTION meta-information ... OK * installing the package (it is needed to build vignettes) ----------------------------------- * installing *source* package ‘GUIDEseq’ ... ** this is package ‘GUIDEseq’ version ‘1.41.0’ ** using staged installation ** R ** data ** inst ** byte-compile and prepare package for lazy loading Error: object ‘microRNAs’ is not exported by 'namespace:GenomicFeatures' Execution halted ERROR: lazy loading failed for package ‘GUIDEseq’ * removing ‘/tmp/RtmpdNkBg7/Rinst968294f6337e/GUIDEseq’ ----------------------------------- ERROR: package installation failed