Package: GSgalgoR Version: 1.19.0 Command: /Library/Frameworks/R.framework/Resources/bin/R CMD INSTALL GSgalgoR StartedAt: 2025-10-20 15:07:56 -0400 (Mon, 20 Oct 2025) EndedAt: 2025-10-20 15:09:12 -0400 (Mon, 20 Oct 2025) EllapsedTime: 76.0 seconds RetCode: 0 Status: OK