Package: GSVA Version: 2.5.1 Command: /home/biocbuild/bbs-3.23-bioc/R/bin/R CMD build --keep-empty-dirs --no-resave-data GSVA StartedAt: 2025-11-06 17:55:10 -0500 (Thu, 06 Nov 2025) EndedAt: 2025-11-06 17:59:04 -0500 (Thu, 06 Nov 2025) EllapsedTime: 234.4 seconds RetCode: 0 Status: OK PackageFile: GSVA_2.5.1.tar.gz PackageFileSize: 3.214 MiB