Package: GSVA Version: 2.3.4 Command: /Library/Frameworks/R.framework/Resources/bin/R CMD INSTALL GSVA StartedAt: 2025-10-12 15:29:50 -0400 (Sun, 12 Oct 2025) EndedAt: 2025-10-12 15:30:08 -0400 (Sun, 12 Oct 2025) EllapsedTime: 18.6 seconds RetCode: 0 Status: OK