Package: GSVA Version: 2.3.4 Command: /Library/Frameworks/R.framework/Resources/bin/R CMD build --keep-empty-dirs --no-resave-data GSVA StartedAt: 2025-10-12 16:35:50 -0400 (Sun, 12 Oct 2025) EndedAt: 2025-10-12 16:36:42 -0400 (Sun, 12 Oct 2025) EllapsedTime: 51.6 seconds RetCode: 0 Status: OK PackageFile: GSVA_2.3.4.tar.gz PackageFileSize: 2.637 MiB