Package: GSVA Version: 2.3.4 Command: rm -rf GSVA.buildbin-libdir && mkdir GSVA.buildbin-libdir && /Users/biocbuild/BBS/utils/build-universal.sh GSVA_2.3.4.tar.gz /Library/Frameworks/R.framework/Resources/bin/R GSVA.buildbin-libdir StartedAt: 2025-10-12 22:39:44 -0400 (Sun, 12 Oct 2025) EndedAt: 2025-10-12 22:40:02 -0400 (Sun, 12 Oct 2025) EllapsedTime: 18.4 seconds RetCode: 0 Status: OK PackageFile: GSVA_2.3.4.tgz PackageFileSize: 2.518 MiB