Package: GSReg Version: 1.43.0 Command: /Library/Frameworks/R.framework/Resources/bin/R CMD INSTALL GSReg StartedAt: 2025-10-12 15:51:25 -0400 (Sun, 12 Oct 2025) EndedAt: 2025-10-12 15:52:17 -0400 (Sun, 12 Oct 2025) EllapsedTime: 52.3 seconds RetCode: 0 Status: OK