Package: GSReg Version: 1.43.0 Command: /Library/Frameworks/R.framework/Resources/bin/R CMD build --keep-empty-dirs --no-resave-data GSReg StartedAt: 2025-10-12 17:23:17 -0400 (Sun, 12 Oct 2025) EndedAt: 2025-10-12 17:25:28 -0400 (Sun, 12 Oct 2025) EllapsedTime: 130.4 seconds RetCode: 0 Status: OK PackageFile: GSReg_1.43.0.tar.gz PackageFileSize: 468.5 KiB