Package: GSReg Version: 1.43.0 Command: rm -rf GSReg.buildbin-libdir && mkdir GSReg.buildbin-libdir && /Users/biocbuild/BBS/utils/build-universal.sh GSReg_1.43.0.tar.gz /Library/Frameworks/R.framework/Resources/bin/R GSReg.buildbin-libdir StartedAt: 2025-10-14 02:47:53 -0400 (Tue, 14 Oct 2025) EndedAt: 2025-10-14 02:48:50 -0400 (Tue, 14 Oct 2025) EllapsedTime: 57.8 seconds RetCode: 0 Status: OK PackageFile: GSReg_1.43.0.tgz PackageFileSize: 383.6 KiB