Package: GSRI Version: 2.59.0 Command: /home/biocbuild/bbs-3.23-bioc/R/bin/R CMD build --keep-empty-dirs --no-resave-data GSRI StartedAt: 2025-11-20 17:59:55 -0500 (Thu, 20 Nov 2025) EndedAt: 2025-11-20 18:00:37 -0500 (Thu, 20 Nov 2025) EllapsedTime: 42.1 seconds RetCode: 0 Status: OK PackageFile: GSRI_2.59.0.tar.gz PackageFileSize: 338.3 KiB