Package: GSRI Version: 2.57.0 Command: /Library/Frameworks/R.framework/Resources/bin/R CMD INSTALL GSRI StartedAt: 2025-10-17 15:28:43 -0400 (Fri, 17 Oct 2025) EndedAt: 2025-10-17 15:29:12 -0400 (Fri, 17 Oct 2025) EllapsedTime: 28.2 seconds RetCode: 0 Status: OK