Package: GSRI Version: 2.57.0 Command: /Library/Frameworks/R.framework/Resources/bin/R CMD build --keep-empty-dirs --no-resave-data GSRI StartedAt: 2025-10-15 17:30:43 -0400 (Wed, 15 Oct 2025) EndedAt: 2025-10-15 17:32:07 -0400 (Wed, 15 Oct 2025) EllapsedTime: 84.1 seconds RetCode: 0 Status: OK PackageFile: GSRI_2.57.0.tar.gz PackageFileSize: 338.5 KiB