Package: GSRI Version: 2.59.0 Maintainer: Julian Gehring MaintainerEmail: jg-bioc at gmx.com git_url: https://git.bioconductor.org/packages/GSRI git_branch: devel git_last_commit: 6de90a8 git_last_commit_date: 2025-10-29 10:05:02 -0500 (Wed, 29 Oct 2025)