Package: GSEAmining Version: 1.21.0 Command: /home/biocbuild/bbs-3.23-bioc/R/bin/R CMD INSTALL GSEAmining StartedAt: 2025-11-03 15:10:39 -0500 (Mon, 03 Nov 2025) EndedAt: 2025-11-03 15:10:49 -0500 (Mon, 03 Nov 2025) EllapsedTime: 9.7 seconds RetCode: 0 Status: OK