Package: GSEAmining Version: 1.21.0 Command: /home/biocbuild/bbs-3.23-bioc/R/bin/R CMD build --keep-empty-dirs --no-resave-data GSEAmining StartedAt: 2025-11-03 17:53:45 -0500 (Mon, 03 Nov 2025) EndedAt: 2025-11-03 17:54:41 -0500 (Mon, 03 Nov 2025) EllapsedTime: 56.1 seconds RetCode: 0 Status: OK PackageFile: GSEAmining_1.21.0.tar.gz PackageFileSize: 2.812 MiB