Package: GSEAmining Version: 1.19.0 Command: /Library/Frameworks/R.framework/Resources/bin/R CMD INSTALL GSEAmining StartedAt: 2025-09-30 15:12:53 -0400 (Tue, 30 Sep 2025) EndedAt: 2025-09-30 15:13:25 -0400 (Tue, 30 Sep 2025) EllapsedTime: 32.6 seconds RetCode: 0 Status: OK