Package: GSEAmining Version: 1.19.0 Command: /Library/Frameworks/R.framework/Resources/bin/R CMD build --keep-empty-dirs --no-resave-data GSEAmining StartedAt: 2025-09-30 17:14:06 -0400 (Tue, 30 Sep 2025) EndedAt: 2025-09-30 17:15:13 -0400 (Tue, 30 Sep 2025) EllapsedTime: 67.4 seconds RetCode: 0 Status: OK PackageFile: GSEAmining_1.19.0.tar.gz PackageFileSize: 2.84 MiB