Package: GSEAlm Version: 1.71.0 Command: /home/biocbuild/bbs-3.23-bioc/R/bin/R CMD INSTALL GSEAlm StartedAt: 2025-11-04 15:12:28 -0500 (Tue, 04 Nov 2025) EndedAt: 2025-11-04 15:12:31 -0500 (Tue, 04 Nov 2025) EllapsedTime: 3.2 seconds RetCode: 0 Status: OK