Package: GSEAlm Version: 1.69.0 Command: /Library/Frameworks/R.framework/Resources/bin/R CMD INSTALL GSEAlm StartedAt: 2025-10-09 15:15:03 -0400 (Thu, 09 Oct 2025) EndedAt: 2025-10-09 15:15:18 -0400 (Thu, 09 Oct 2025) EllapsedTime: 14.9 seconds RetCode: 0 Status: OK