Package: GSEAlm Version: 1.69.0 Command: /Library/Frameworks/R.framework/Resources/bin/R CMD build --keep-empty-dirs --no-resave-data GSEAlm StartedAt: 2025-10-09 17:20:18 -0400 (Thu, 09 Oct 2025) EndedAt: 2025-10-09 17:21:35 -0400 (Thu, 09 Oct 2025) EllapsedTime: 76.6 seconds RetCode: 0 Status: OK PackageFile: GSEAlm_1.69.0.tar.gz PackageFileSize: 1.242 MiB