Package: GSEAlm Version: 1.69.0 Command: rm -rf GSEAlm.buildbin-libdir && mkdir GSEAlm.buildbin-libdir && /Users/biocbuild/BBS/utils/build-universal.sh GSEAlm_1.69.0.tar.gz /Library/Frameworks/R.framework/Resources/bin/R GSEAlm.buildbin-libdir StartedAt: 2025-10-10 02:38:51 -0400 (Fri, 10 Oct 2025) EndedAt: 2025-10-10 02:39:02 -0400 (Fri, 10 Oct 2025) EllapsedTime: 10.4 seconds RetCode: 0 Status: OK PackageFile: GSEAlm_1.69.0.tgz PackageFileSize: 1.235 MiB