Package: GSEABenchmarkeR Version: 1.31.0 Command: /home/biocbuild/bbs-3.23-bioc/R/bin/R CMD INSTALL GSEABenchmarkeR StartedAt: 2025-11-05 16:06:03 -0500 (Wed, 05 Nov 2025) EndedAt: 2025-11-05 16:06:23 -0500 (Wed, 05 Nov 2025) EllapsedTime: 20.4 seconds RetCode: 0 Status: OK