Package: GSEABenchmarkeR Version: 1.31.0 Command: /home/biocbuild/bbs-3.23-bioc/R/bin/R CMD build --keep-empty-dirs --no-resave-data GSEABenchmarkeR StartedAt: 2025-11-05 18:01:36 -0500 (Wed, 05 Nov 2025) EndedAt: 2025-11-05 18:03:48 -0500 (Wed, 05 Nov 2025) EllapsedTime: 132.2 seconds RetCode: 0 Status: OK PackageFile: GSEABenchmarkeR_1.31.0.tar.gz PackageFileSize: 572.5 KiB