Package: GSEABenchmarkeR Version: 1.29.1 Command: /Library/Frameworks/R.framework/Resources/bin/R CMD INSTALL GSEABenchmarkeR StartedAt: 2025-10-27 15:47:07 -0400 (Mon, 27 Oct 2025) EndedAt: 2025-10-27 15:47:36 -0400 (Mon, 27 Oct 2025) EllapsedTime: 29.0 seconds RetCode: 0 Status: OK