Package: GSEABenchmarkeR Version: 1.29.1 Command: /Library/Frameworks/R.framework/Resources/bin/R CMD build --keep-empty-dirs --no-resave-data GSEABenchmarkeR StartedAt: 2025-10-27 17:11:26 -0400 (Mon, 27 Oct 2025) EndedAt: 2025-10-27 17:14:00 -0400 (Mon, 27 Oct 2025) EllapsedTime: 154.1 seconds RetCode: 0 Status: OK PackageFile: GSEABenchmarkeR_1.29.1.tar.gz PackageFileSize: 572.4 KiB