Package: GSEABenchmarkeR Version: 1.29.1 Command: rm -rf GSEABenchmarkeR.buildbin-libdir && mkdir GSEABenchmarkeR.buildbin-libdir && /Users/biocbuild/BBS/utils/build-universal.sh GSEABenchmarkeR_1.29.1.tar.gz /Library/Frameworks/R.framework/Resources/bin/R GSEABenchmarkeR.buildbin-libdir StartedAt: 2025-10-28 02:15:35 -0400 (Tue, 28 Oct 2025) EndedAt: 2025-10-28 02:16:06 -0400 (Tue, 28 Oct 2025) EllapsedTime: 31.3 seconds RetCode: 0 Status: OK PackageFile: GSEABenchmarkeR_1.29.1.tgz PackageFileSize: 682.7 KiB