Package: GSEABenchmarkeR Version: 1.29.1 Command: /Library/Frameworks/R.framework/Resources/bin/R CMD INSTALL GSEABenchmarkeR StartedAt: 2025-10-15 15:32:24 -0400 (Wed, 15 Oct 2025) EndedAt: 2025-10-15 15:32:32 -0400 (Wed, 15 Oct 2025) EllapsedTime: 8.2 seconds RetCode: 0 Status: OK