Package: GSEABenchmarkeR Version: 1.29.1 Command: /Library/Frameworks/R.framework/Resources/bin/R CMD build --keep-empty-dirs --no-resave-data GSEABenchmarkeR StartedAt: 2025-10-15 16:36:54 -0400 (Wed, 15 Oct 2025) EndedAt: 2025-10-15 16:38:03 -0400 (Wed, 15 Oct 2025) EllapsedTime: 68.7 seconds RetCode: 0 Status: OK PackageFile: GSEABenchmarkeR_1.29.1.tar.gz PackageFileSize: 571.6 KiB