Package: GSEABase Version: 1.71.1 Command: /Library/Frameworks/R.framework/Resources/bin/R CMD INSTALL GSEABase StartedAt: 2025-10-15 15:25:34 -0400 (Wed, 15 Oct 2025) EndedAt: 2025-10-15 15:26:00 -0400 (Wed, 15 Oct 2025) EllapsedTime: 26.0 seconds RetCode: 0 Status: OK