Package: GSEABase Version: 1.71.1 Command: /Library/Frameworks/R.framework/Resources/bin/R CMD build --keep-empty-dirs --no-resave-data GSEABase StartedAt: 2025-10-16 17:55:51 -0400 (Thu, 16 Oct 2025) EndedAt: 2025-10-16 17:57:54 -0400 (Thu, 16 Oct 2025) EllapsedTime: 122.5 seconds RetCode: 0 Status: OK PackageFile: GSEABase_1.71.1.tar.gz PackageFileSize: 292.7 KiB