Package: GSEABase Version: 1.71.1 Command: rm -rf GSEABase.buildbin-libdir && mkdir GSEABase.buildbin-libdir && /Users/biocbuild/BBS/utils/build-universal.sh GSEABase_1.71.1.tar.gz /Library/Frameworks/R.framework/Resources/bin/R GSEABase.buildbin-libdir StartedAt: 2025-10-16 02:56:50 -0400 (Thu, 16 Oct 2025) EndedAt: 2025-10-16 02:57:19 -0400 (Thu, 16 Oct 2025) EllapsedTime: 29.0 seconds RetCode: 0 Status: OK PackageFile: GSEABase_1.71.1.tgz PackageFileSize: 1.001 MiB