Package: GSEABase Version: 1.71.1 Command: /Library/Frameworks/R.framework/Resources/bin/R CMD INSTALL GSEABase StartedAt: 2025-09-29 15:09:06 -0400 (Mon, 29 Sep 2025) EndedAt: 2025-09-29 15:09:13 -0400 (Mon, 29 Sep 2025) EllapsedTime: 7.3 seconds RetCode: 0 Status: OK