Package: GSEABase Version: 1.71.1 Command: /Library/Frameworks/R.framework/Resources/bin/R CMD build --keep-empty-dirs --no-resave-data GSEABase StartedAt: 2025-09-29 16:36:51 -0400 (Mon, 29 Sep 2025) EndedAt: 2025-09-29 16:37:20 -0400 (Mon, 29 Sep 2025) EllapsedTime: 29.3 seconds RetCode: 0 Status: OK PackageFile: GSEABase_1.71.1.tar.gz PackageFileSize: 292.7 KiB