Back to Multiple platform build/check report for BioC 3.23:   simplified   long
ABCDEF[G]HIJKLMNOPQRSTUVWXYZ

This page was generated on 2025-11-21 11:37 -0500 (Fri, 21 Nov 2025).

HostnameOSArch (*)R versionInstalled pkgs
nebbiolo1Linux (Ubuntu 24.04.3 LTS)x86_64R Under development (unstable) (2025-10-20 r88955) -- "Unsuffered Consequences" 4829
lconwaymacOS 12.7.6 Montereyx86_64R Under development (unstable) (2025-10-21 r88958) -- "Unsuffered Consequences" 4602
kjohnson3macOS 13.7.7 Venturaarm64R Under development (unstable) (2025-11-04 r88984) -- "Unsuffered Consequences" 4566
Click on any hostname to see more info about the system (e.g. compilers)      (*) as reported by 'uname -p', except on Windows and Mac OS X

All results for package GSEABase


To the developers/maintainers of the GSEABase package:
- Allow up to 24 hours (and sometimes 48 hours) for your latest push to git@git.bioconductor.org:packages/GSEABase.git to reflect on this report. See Troubleshooting Build Report for more information.
- Use the following Renviron settings to reproduce errors and warnings.
- If 'R CMD check' started to fail recently on the Linux builder(s) over a missing dependency, add the missing dependency to 'Suggests:' in your DESCRIPTION file. See Renviron.bioc for more information.

raw results

Package 926/2327HostnameOS / ArchINSTALLBUILDCHECKBUILD BIN
GSEABase 1.73.0  (landing page)
Bioconductor Package Maintainer
Snapshot Date: 2025-11-20 13:40 -0500 (Thu, 20 Nov 2025)
git_url: https://git.bioconductor.org/packages/GSEABase
git_branch: devel
git_last_commit: 40d4be6
git_last_commit_date: 2025-10-29 09:59:33 -0500 (Wed, 29 Oct 2025)
nebbiolo1Linux (Ubuntu 24.04.3 LTS) / x86_64  OK    OK    OK  UNNEEDED, same version is already published
lconwaymacOS 12.7.6 Monterey / x86_64  OK    OK    OK    OK  UNNEEDED, same version is already published
kjohnson3macOS 13.7.7 Ventura / arm64  OK    OK    OK    OK  UNNEEDED, same version is already published



Results for Bioconductor software packages that depend directly on package GSEABase

QUICK STATSOS / ArchINSTALLBUILDCHECKBUILD BIN
nebbiolo1Linux (Ubuntu 24.04.3 LTS) / x86_64
0040
0040
01732
lconwaymacOS 12.7.6 Monterey / x86_64
0139
0139
01632
0039
kjohnson3macOS 13.7.7 Ventura / arm64
0139
0139
01632
0039
Package 1/40HostnameOS / ArchINSTALLBUILDCHECKBUILD BIN
AGDEX 1.59.0  (landing page)
Cuilan lani Gao
git_last_commit: 8634f30
git_last_commit_date: 2025-10-29 10:09:01 -0500
nebbiolo1Linux (Ubuntu 24.04.3 LTS) / x86_64  OK    OK    OK  UNNEEDED, same version is already published
lconwaymacOS 12.7.6 Monterey / x86_64  OK    OK    OK    OK  UNNEEDED, same version is already published
kjohnson3macOS 13.7.7 Ventura / arm64  OK    OK    OK    OK  UNNEEDED, same version is already published
Package 2/40HostnameOS / ArchINSTALLBUILDCHECKBUILD BIN
AUCell 1.33.0  (landing page)
Gert Hulselmans
git_last_commit: cf45038
git_last_commit_date: 2025-10-29 10:40:49 -0500
nebbiolo1Linux (Ubuntu 24.04.3 LTS) / x86_64  OK    OK    OK  UNNEEDED, same version is already published
lconwaymacOS 12.7.6 Monterey / x86_64  OK    OK    OK    OK  UNNEEDED, same version is already published
kjohnson3macOS 13.7.7 Ventura / arm64  OK    OK    OK    OK  UNNEEDED, same version is already published
Package 3/40HostnameOS / ArchINSTALLBUILDCHECKBUILD BIN
BicARE 1.69.0  (landing page)
Pierre Gestraud
git_last_commit: 8dec4bf
git_last_commit_date: 2025-10-29 10:01:51 -0500
nebbiolo1Linux (Ubuntu 24.04.3 LTS) / x86_64  OK    OK    OK  UNNEEDED, same version is already published
lconwaymacOS 12.7.6 Monterey / x86_64  OK    OK    OK    OK  UNNEEDED, same version is already published
kjohnson3macOS 13.7.7 Ventura / arm64  OK    OK    OK    OK  UNNEEDED, same version is already published
Package 4/40HostnameOS / ArchINSTALLBUILDCHECKBUILD BIN
BioCor 1.35.0  (landing page)
LluĂ­s Revilla Sancho
git_last_commit: e26910c
git_last_commit_date: 2025-10-29 10:37:26 -0500
nebbiolo1Linux (Ubuntu 24.04.3 LTS) / x86_64  OK    OK    OK  UNNEEDED, same version is already published
lconwaymacOS 12.7.6 Monterey / x86_64  OK    OK    OK    OK  UNNEEDED, same version is already published
kjohnson3macOS 13.7.7 Ventura / arm64  OK    OK    OK    OK  UNNEEDED, same version is already published
Package 5/40HostnameOS / ArchINSTALLBUILDCHECKBUILD BIN
canceR 1.45.0  (landing page)
Karim Mezhoud
git_last_commit: 2ab2bd4
git_last_commit_date: 2025-10-29 10:24:23 -0500
nebbiolo1Linux (Ubuntu 24.04.3 LTS) / x86_64  OK    OK    WARNINGS  UNNEEDED, same version is already published
lconwaymacOS 12.7.6 Monterey / x86_64  OK    OK    WARNINGS    OK  UNNEEDED, same version is already published
kjohnson3macOS 13.7.7 Ventura / arm64  OK    OK    WARNINGS    OK  UNNEEDED, same version is already published
Package 6/40HostnameOS / ArchINSTALLBUILDCHECKBUILD BIN
Category 2.77.0  (landing page)
Bioconductor Package Maintainer
git_last_commit: 6850286
git_last_commit_date: 2025-10-29 09:56:37 -0500
nebbiolo1Linux (Ubuntu 24.04.3 LTS) / x86_64  OK    OK    OK  UNNEEDED, same version is already published
lconwaymacOS 12.7.6 Monterey / x86_64  OK    OK    OK    OK  UNNEEDED, same version is already published
kjohnson3macOS 13.7.7 Ventura / arm64  OK    OK    OK    OK  UNNEEDED, same version is already published
Package 7/40HostnameOS / ArchINSTALLBUILDCHECKBUILD BIN
categoryCompare 1.55.0  (landing page)
Robert M. Flight
git_last_commit: 22bf171
git_last_commit_date: 2025-10-29 10:11:00 -0500
nebbiolo1Linux (Ubuntu 24.04.3 LTS) / x86_64  OK    OK    OK  UNNEEDED, same version is already published
lconwaymacOS 12.7.6 Monterey / x86_64  OK    OK    OK    OK  UNNEEDED, same version is already published
kjohnson3macOS 13.7.7 Ventura / arm64  OK    OK    OK    OK  UNNEEDED, same version is already published
Package 8/40HostnameOS / ArchINSTALLBUILDCHECKBUILD BIN
CCPROMISE 1.37.0  (landing page)
Xueyuan Cao
git_last_commit: e350525
git_last_commit_date: 2025-10-29 10:35:30 -0500
nebbiolo1Linux (Ubuntu 24.04.3 LTS) / x86_64  OK    OK    WARNINGS  UNNEEDED, same version is already published
lconwaymacOS 12.7.6 Monterey / x86_64  OK    OK    WARNINGS    OK  UNNEEDED, same version is already published
kjohnson3macOS 13.7.7 Ventura / arm64  OK    OK    WARNINGS    OK  UNNEEDED, same version is already published
Package 9/40HostnameOS / ArchINSTALLBUILDCHECKBUILD BIN
Cepo 1.17.0  (landing page)
Hani Jieun Kim
git_last_commit: 884e02b
git_last_commit_date: 2025-10-29 11:13:24 -0500
nebbiolo1Linux (Ubuntu 24.04.3 LTS) / x86_64  OK    OK    OK  UNNEEDED, same version is already published
lconwaymacOS 12.7.6 Monterey / x86_64  OK    OK    OK    OK  UNNEEDED, same version is already published
kjohnson3macOS 13.7.7 Ventura / arm64  OK    OK    OK    OK  UNNEEDED, same version is already published
Package 10/40HostnameOS / ArchINSTALLBUILDCHECKBUILD BIN
cosmosR 1.19.0  (landing page)
Attila Gabor
git_last_commit: 5528c3b
git_last_commit_date: 2025-10-29 11:09:16 -0500
nebbiolo1Linux (Ubuntu 24.04.3 LTS) / x86_64  OK    OK    OK  UNNEEDED, same version is already published
lconwaymacOS 12.7.6 Monterey / x86_64  OK    OK    OK    OK  UNNEEDED, same version is already published
kjohnson3macOS 13.7.7 Ventura / arm64  OK    OK    OK    OK  UNNEEDED, same version is already published
Package 11/40HostnameOS / ArchINSTALLBUILDCHECKBUILD BIN
cpvSNP 1.43.0  (landing page)
Caitlin McHugh
git_last_commit: f6e351b
git_last_commit_date: 2025-10-29 10:23:10 -0500
nebbiolo1Linux (Ubuntu 24.04.3 LTS) / x86_64  OK    OK    OK  UNNEEDED, same version is already published
lconwaymacOS 12.7.6 Monterey / x86_64  OK    OK    OK    OK  UNNEEDED, same version is already published
kjohnson3macOS 13.7.7 Ventura / arm64  OK    OK    OK    OK  UNNEEDED, same version is already published
Package 12/40HostnameOS / ArchINSTALLBUILDCHECKBUILD BIN
dreamlet 1.9.0  (landing page)
Gabriel Hoffman
git_last_commit: dfc1aac
git_last_commit_date: 2025-10-29 11:25:03 -0500
nebbiolo1Linux (Ubuntu 24.04.3 LTS) / x86_64  OK    OK    OK  UNNEEDED, same version is already published
lconwaymacOS 12.7.6 Monterey / x86_64  OK    OK    OK    OK  UNNEEDED, same version is already published
kjohnson3macOS 13.7.7 Ventura / arm64  OK    OK    OK    OK  UNNEEDED, same version is already published
Package 13/40HostnameOS / ArchINSTALLBUILDCHECKBUILD BIN
EnrichmentBrowser 2.41.0  (landing page)
Ludwig Geistlinger
git_last_commit: eb4505a
git_last_commit_date: 2025-10-29 10:21:30 -0500
nebbiolo1Linux (Ubuntu 24.04.3 LTS) / x86_64  OK    OK    OK  UNNEEDED, same version is already published
lconwaymacOS 12.7.6 Monterey / x86_64  OK    OK    OK    OK  UNNEEDED, same version is already published
kjohnson3macOS 13.7.7 Ventura / arm64  OK    OK    OK    OK  UNNEEDED, same version is already published
Package 14/40HostnameOS / ArchINSTALLBUILDCHECKBUILD BIN
gep2pep 1.31.0  (landing page)
Francesco Napolitano
git_last_commit: 5fcf5d5
git_last_commit_date: 2025-10-29 10:42:15 -0500
nebbiolo1Linux (Ubuntu 24.04.3 LTS) / x86_64  OK    OK    OK  UNNEEDED, same version is already published
lconwaymacOS 12.7.6 Monterey / x86_64  OK    OK    OK    OK  UNNEEDED, same version is already published
kjohnson3macOS 13.7.7 Ventura / arm64  OK    OK    OK    OK  UNNEEDED, same version is already published
Package 15/40HostnameOS / ArchINSTALLBUILDCHECKBUILD BIN
GlobalAncova 4.29.0  (landing page)
Manuela Hummel
git_last_commit: 342275c
git_last_commit_date: 2025-10-29 09:57:03 -0500
nebbiolo1Linux (Ubuntu 24.04.3 LTS) / x86_64  OK    OK    WARNINGS  UNNEEDED, same version is already published
lconwaymacOS 12.7.6 Monterey / x86_64  OK    OK    WARNINGS    OK  UNNEEDED, same version is already published
kjohnson3macOS 13.7.7 Ventura / arm64  OK    OK    WARNINGS    OK  UNNEEDED, same version is already published
Package 16/40HostnameOS / ArchINSTALLBUILDCHECKBUILD BIN
GmicR 1.25.0  (landing page)
Richard Virgen-Slane
git_last_commit: f2f25e5
git_last_commit_date: 2025-10-29 10:54:40 -0500
nebbiolo1Linux (Ubuntu 24.04.3 LTS) / x86_64  OK    OK    WARNINGS  UNNEEDED, same version is already published
lconwaymacOS 12.7.6 Monterey / x86_64  OK    OK    WARNINGS    OK  UNNEEDED, same version is already published
kjohnson3macOS 13.7.7 Ventura / arm64  OK    OK    WARNINGS    OK  UNNEEDED, same version is already published
Package 17/40HostnameOS / ArchINSTALLBUILDCHECKBUILD BIN
GSRI 2.59.0  (landing page)
Julian Gehring
git_last_commit: 6de90a8
git_last_commit_date: 2025-10-29 10:05:02 -0500
nebbiolo1Linux (Ubuntu 24.04.3 LTS) / x86_64  OK    OK    OK  UNNEEDED, same version is already published
lconwaymacOS 12.7.6 Monterey / x86_64  OK    OK    OK    OK  UNNEEDED, same version is already published
kjohnson3macOS 13.7.7 Ventura / arm64  OK    OK    OK    OK  UNNEEDED, same version is already published
Package 18/40HostnameOS / ArchINSTALLBUILDCHECKBUILD BIN
GSVA 2.5.8  (landing page)
Robert Castelo
git_last_commit: c8b5681
git_last_commit_date: 2025-11-19 14:25:35 -0500
nebbiolo1Linux (Ubuntu 24.04.3 LTS) / x86_64  OK    OK    OK  YES
lconwaymacOS 12.7.6 Monterey / x86_64  OK    OK    OK    OK  YES
kjohnson3macOS 13.7.7 Ventura / arm64  OK    OK    OK    OK  NO, package depends on 'BiocSingular' which is only available as a source package that needs compilation
Package 19/40HostnameOS / ArchINSTALLBUILDCHECKBUILD BIN
mastR 1.11.0  (landing page)
Jinjin Chen
git_last_commit: 84f231b
git_last_commit_date: 2025-10-29 11:22:48 -0500
nebbiolo1Linux (Ubuntu 24.04.3 LTS) / x86_64  OK    OK    OK  UNNEEDED, same version is already published
lconwaymacOS 12.7.6 Monterey / x86_64  OK    OK    OK    OK  UNNEEDED, same version is already published
kjohnson3macOS 13.7.7 Ventura / arm64  OK    OK    OK    OK  UNNEEDED, same version is already published
Package 20/40HostnameOS / ArchINSTALLBUILDCHECKBUILD BIN
miRSM 2.7.0  (landing page)
Junpeng Zhang
git_last_commit: 64db36b
git_last_commit_date: 2025-10-29 10:47:11 -0500
nebbiolo1Linux (Ubuntu 24.04.3 LTS) / x86_64  OK    OK    OK  UNNEEDED, same version is already published
lconwaymacOS 12.7.6 Monterey / x86_64  OK    OK    OK    OK  UNNEEDED, same version is already published
kjohnson3macOS 13.7.7 Ventura / arm64  OK    OK    OK    OK  UNNEEDED, same version is already published
Package 21/40HostnameOS / ArchINSTALLBUILDCHECKBUILD BIN
mogsa 1.45.0  (landing page)
Chen Meng
git_last_commit: 51a848b
git_last_commit_date: 2025-10-29 10:25:17 -0500
nebbiolo1Linux (Ubuntu 24.04.3 LTS) / x86_64  OK    OK    OK  UNNEEDED, same version is already published
lconwaymacOS 12.7.6 Monterey / x86_64  OK    OK    OK    OK  UNNEEDED, same version is already published
kjohnson3macOS 13.7.7 Ventura / arm64  OK    OK    OK    OK  UNNEEDED, same version is already published
Package 22/40HostnameOS / ArchINSTALLBUILDCHECKBUILD BIN
npGSEA 1.47.0  (landing page)
Jessica Larson
git_last_commit: 3e7356f
git_last_commit_date: 2025-10-29 10:19:10 -0500
nebbiolo1Linux (Ubuntu 24.04.3 LTS) / x86_64  OK    OK    OK  UNNEEDED, same version is already published
lconwaymacOS 12.7.6 Monterey / x86_64  OK    OK    OK    OK  UNNEEDED, same version is already published
kjohnson3macOS 13.7.7 Ventura / arm64  OK    OK    OK    OK  UNNEEDED, same version is already published
Package 23/40HostnameOS / ArchINSTALLBUILDCHECKBUILD BIN
oppar 1.39.0  (landing page)
Soroor Hediyeh zadeh
git_last_commit: 168fc6d
git_last_commit_date: 2025-10-29 10:31:41 -0500
nebbiolo1Linux (Ubuntu 24.04.3 LTS) / x86_64  OK    OK    WARNINGS  UNNEEDED, same version is already published
lconwaymacOS 12.7.6 Monterey / x86_64  OK    OK    WARNINGS    OK  UNNEEDED, same version is already published
kjohnson3macOS 13.7.7 Ventura / arm64  OK    OK    WARNINGS    OK  NO, package depends on 'GSVA' which is only available as a source package that needs compilation
Package 24/40HostnameOS / ArchINSTALLBUILDCHECKBUILD BIN
PanomiR 1.15.0  (landing page)
Pourya Naderi
git_last_commit: eb18fe4
git_last_commit_date: 2025-10-29 11:14:47 -0500
nebbiolo1Linux (Ubuntu 24.04.3 LTS) / x86_64  OK    OK    OK  UNNEEDED, same version is already published
lconwaymacOS 12.7.6 Monterey / x86_64  OK    OK    OK    OK  UNNEEDED, same version is already published
kjohnson3macOS 13.7.7 Ventura / arm64  OK    OK    OK    OK  UNNEEDED, same version is already published
Package 25/40HostnameOS / ArchINSTALLBUILDCHECKBUILD BIN
phenoTest 1.59.0  (landing page)
Evarist Planet
git_last_commit: 882e53c
git_last_commit_date: 2025-10-29 10:06:30 -0500
nebbiolo1Linux (Ubuntu 24.04.3 LTS) / x86_64  OK    OK    OK  UNNEEDED, same version is already published
lconwaymacOS 12.7.6 Monterey / x86_64  OK    OK    OK    OK  UNNEEDED, same version is already published
kjohnson3macOS 13.7.7 Ventura / arm64  OK    OK    OK    OK  UNNEEDED, same version is already published
Package 26/40HostnameOS / ArchINSTALLBUILDCHECKBUILD BIN
PROMISE 1.63.0  (landing page)
Stan Pounds , Xueyuan Cao
git_last_commit: d65a441
git_last_commit_date: 2025-10-29 10:04:56 -0500
nebbiolo1Linux (Ubuntu 24.04.3 LTS) / x86_64  OK    OK    OK  UNNEEDED, same version is already published
lconwaymacOS 12.7.6 Monterey / x86_64  OK    OK    OK    OK  UNNEEDED, same version is already published
kjohnson3macOS 13.7.7 Ventura / arm64  OK    OK    OK    OK  UNNEEDED, same version is already published
Package 27/40HostnameOS / ArchINSTALLBUILDCHECKBUILD BIN
RcisTarget 1.31.0  (landing page)
Gert Hulselmans
git_last_commit: 06bec5f
git_last_commit_date: 2025-10-29 10:42:56 -0500
nebbiolo1Linux (Ubuntu 24.04.3 LTS) / x86_64  OK    OK    ERROR  
lconwaymacOS 12.7.6 Monterey / x86_64  OK    OK    ERROR    OK  
kjohnson3macOS 13.7.7 Ventura / arm64  OK    OK    ERROR    OK  
Package 28/40HostnameOS / ArchINSTALLBUILDCHECKBUILD BIN
ReportingTools 2.51.0  (landing page)
Jason A. Hackney , Gabriel Becker
git_last_commit: ba00f72
git_last_commit_date: 2025-10-29 10:12:14 -0500
nebbiolo1Linux (Ubuntu 24.04.3 LTS) / x86_64  OK    OK    OK  UNNEEDED, same version is already published
lconwaymacOS 12.7.6 Monterey / x86_64  OK    OK    OK    OK  NO, package depends on 'DESeq2' which is only available as a source package that needs compilation
kjohnson3macOS 13.7.7 Ventura / arm64  OK    OK    OK    OK  NO, package depends on 'DESeq2' which is only available as a source package that needs compilation
Package 29/40HostnameOS / ArchINSTALLBUILDCHECKBUILD BIN
scTGIF 1.25.0  (landing page)
Koki Tsuyuzaki
git_last_commit: f7ab3ab
git_last_commit_date: 2025-10-29 10:55:37 -0500
nebbiolo1Linux (Ubuntu 24.04.3 LTS) / x86_64  OK    OK    OK  UNNEEDED, same version is already published
lconwaymacOS 12.7.6 Monterey / x86_64  OK    OK    OK    OK  UNNEEDED, same version is already published
kjohnson3macOS 13.7.7 Ventura / arm64  OK    OK    OK    OK  UNNEEDED, same version is already published
Package 30/40HostnameOS / ArchINSTALLBUILDCHECKBUILD BIN
signatureSearch 1.25.0  (landing page)
Brendan Gongol
git_last_commit: 342f9a7
git_last_commit_date: 2025-10-29 10:55:44 -0500
nebbiolo1Linux (Ubuntu 24.04.3 LTS) / x86_64  OK    OK    OK  UNNEEDED, same version is already published
lconwaymacOS 12.7.6 Monterey / x86_64  OK    OK    OK    OK  UNNEEDED, same version is already published
kjohnson3macOS 13.7.7 Ventura / arm64  OK    OK    OK    OK  UNNEEDED, same version is already published
Package 31/40HostnameOS / ArchINSTALLBUILDCHECKBUILD BIN
singleCellTK 2.21.0  (landing page)
Joshua David Campbell
git_last_commit: 4895b66
git_last_commit_date: 2025-10-29 11:29:49 -0500
nebbiolo1Linux (Ubuntu 24.04.3 LTS) / x86_64  OK    OK    OK  UNNEEDED, same version is already published
lconwaymacOS 12.7.6 Monterey / x86_64  OK    OK    OK    OK  NO, package depends on 'batchelor' which is only available as a source package that needs compilation
kjohnson3macOS 13.7.7 Ventura / arm64  OK    OK    OK    OK  NO, package depends on 'batchelor' which is only available as a source package that needs compilation
Package 32/40HostnameOS / ArchINSTALLBUILDCHECKBUILD BIN
singscore 1.31.0  (landing page)
Malvika Kharbanda
git_last_commit: c86aa46
git_last_commit_date: 2025-10-29 10:45:11 -0500
nebbiolo1Linux (Ubuntu 24.04.3 LTS) / x86_64  OK    OK    OK  UNNEEDED, same version is already published
lconwaymacOS 12.7.6 Monterey / x86_64  OK    OK    OK    OK  UNNEEDED, same version is already published
kjohnson3macOS 13.7.7 Ventura / arm64  OK    OK    OK    OK  UNNEEDED, same version is already published
Package 33/40HostnameOS / ArchINSTALLBUILDCHECKBUILD BIN
slalom 1.33.0  (landing page)
Davis McCarthy
git_last_commit: 42126fd
git_last_commit_date: 2025-10-29 10:41:26 -0500
nebbiolo1Linux (Ubuntu 24.04.3 LTS) / x86_64  OK    OK    WARNINGS  UNNEEDED, same version is already published
lconwaymacOS 12.7.6 Monterey / x86_64  ERROR    ERROR  skippedskipped
kjohnson3macOS 13.7.7 Ventura / arm64  ERROR    ERROR  skippedskipped
Package 34/40HostnameOS / ArchINSTALLBUILDCHECKBUILD BIN
sparrow 1.17.0  (landing page)
Steve Lianoglou
git_last_commit: 03b668b
git_last_commit_date: 2025-10-29 11:12:41 -0500
nebbiolo1Linux (Ubuntu 24.04.3 LTS) / x86_64  OK    OK    OK  UNNEEDED, same version is already published
lconwaymacOS 12.7.6 Monterey / x86_64  OK    OK    OK    OK  UNNEEDED, same version is already published
kjohnson3macOS 13.7.7 Ventura / arm64  OK    OK    OK    OK  UNNEEDED, same version is already published
Package 35/40HostnameOS / ArchINSTALLBUILDCHECKBUILD BIN
splineTimeR 1.39.0  (landing page)
Herbert Braselmann , Martin Selmansberger
git_last_commit: 2658c19
git_last_commit_date: 2025-10-29 10:29:14 -0500
nebbiolo1Linux (Ubuntu 24.04.3 LTS) / x86_64  OK    OK    OK  UNNEEDED, same version is already published
lconwaymacOS 12.7.6 Monterey / x86_64  OK    OK    OK    OK  UNNEEDED, same version is already published
kjohnson3macOS 13.7.7 Ventura / arm64  OK    OK    OK    OK  UNNEEDED, same version is already published
Package 36/40HostnameOS / ArchINSTALLBUILDCHECKBUILD BIN
TFutils 1.31.0  (landing page)
Vincent Carey
git_last_commit: 775ebfc
git_last_commit_date: 2025-10-29 10:44:40 -0500
nebbiolo1Linux (Ubuntu 24.04.3 LTS) / x86_64  OK    OK    OK  UNNEEDED, same version is already published
lconwaymacOS 12.7.6 Monterey / x86_64  OK    OK    OK    OK  NO, package depends on 'Rsamtools' which is only available as a source package that needs compilation
kjohnson3macOS 13.7.7 Ventura / arm64  OK    OK    OK    OK  NO, package depends on 'Rsamtools' which is only available as a source package that needs compilation
Package 37/40HostnameOS / ArchINSTALLBUILDCHECKBUILD BIN
TissueEnrich 1.31.0  (landing page)
Ashish Jain
git_last_commit: 706448a
git_last_commit_date: 2025-10-29 10:44:14 -0500
nebbiolo1Linux (Ubuntu 24.04.3 LTS) / x86_64  OK    OK    OK  UNNEEDED, same version is already published
lconwaymacOS 12.7.6 Monterey / x86_64  OK    OK    OK    OK  UNNEEDED, same version is already published
kjohnson3macOS 13.7.7 Ventura / arm64  OK    OK    OK    OK  UNNEEDED, same version is already published
Package 38/40HostnameOS / ArchINSTALLBUILDCHECKBUILD BIN
TMSig 1.5.0  (landing page)
Tyler Sagendorf
git_last_commit: cf64558
git_last_commit_date: 2025-10-29 11:33:04 -0500
nebbiolo1Linux (Ubuntu 24.04.3 LTS) / x86_64  OK    OK    OK  UNNEEDED, same version is already published
lconwaymacOS 12.7.6 Monterey / x86_64  OK    OK    OK    OK  UNNEEDED, same version is already published
kjohnson3macOS 13.7.7 Ventura / arm64  OK    OK    OK    OK  UNNEEDED, same version is already published
Package 39/40HostnameOS / ArchINSTALLBUILDCHECKBUILD BIN
vissE 1.19.0  (landing page)
Dharmesh D. Bhuva
git_last_commit: 6362af1
git_last_commit_date: 2025-10-29 11:09:30 -0500
nebbiolo1Linux (Ubuntu 24.04.3 LTS) / x86_64  OK    OK    OK  UNNEEDED, same version is already published
lconwaymacOS 12.7.6 Monterey / x86_64  OK    OK    OK    OK  UNNEEDED, same version is already published
kjohnson3macOS 13.7.7 Ventura / arm64  OK    OK    OK    OK  UNNEEDED, same version is already published
Package 40/40HostnameOS / ArchINSTALLBUILDCHECKBUILD BIN
zenith 1.13.0  (landing page)
Gabriel Hoffman
git_last_commit: d8b9255
git_last_commit_date: 2025-10-29 11:18:08 -0500
nebbiolo1Linux (Ubuntu 24.04.3 LTS) / x86_64  OK    OK    WARNINGS  UNNEEDED, same version is already published
lconwaymacOS 12.7.6 Monterey / x86_64  OK    OK    WARNINGS    OK  UNNEEDED, same version is already published
kjohnson3macOS 13.7.7 Ventura / arm64  OK    OK    WARNINGS    OK  UNNEEDED, same version is already published