Package: GSCA Version: 2.39.0 Command: /home/biocbuild/R/R/bin/R CMD INSTALL GSCA StartedAt: 2025-10-20 20:17:46 -0000 (Mon, 20 Oct 2025) EndedAt: 2025-10-20 20:18:42 -0000 (Mon, 20 Oct 2025) EllapsedTime: 55.5 seconds RetCode: 0 Status: OK