Package: GSCA Version: 2.39.0 Command: rm -rf GSCA.buildbin-libdir && mkdir GSCA.buildbin-libdir && F:\biocbuild\bbs-3.22-bioc\R\bin\R.exe CMD INSTALL --build --library=GSCA.buildbin-libdir GSCA_2.39.0.tar.gz StartedAt: 2025-08-15 10:25:52 -0400 (Fri, 15 Aug 2025) EndedAt: 2025-08-15 10:26:04 -0400 (Fri, 15 Aug 2025) EllapsedTime: 12.0 seconds RetCode: 0 Status: OK PackageFile: GSCA_2.39.0.zip PackageFileSize: 2.246 MiB