Package: GSCA Version: 2.41.0 Command: /home/biocbuild/bbs-3.23-bioc/R/bin/R CMD check --install=check:GSCA.install-out.txt --library=/home/biocbuild/bbs-3.23-bioc/R/site-library --timings GSCA_2.41.0.tar.gz StartedAt: 2025-11-26 00:15:47 -0500 (Wed, 26 Nov 2025) EndedAt: 2025-11-26 00:18:42 -0500 (Wed, 26 Nov 2025) EllapsedTime: 174.1 seconds RetCode: 0 Status: OK CheckDir: GSCA.Rcheck Warnings: 0