Package: GSAR Version: 1.45.0 Command: /home/biocbuild/bbs-3.23-bioc/R/bin/R CMD INSTALL GSAR StartedAt: 2025-11-20 15:04:55 -0500 (Thu, 20 Nov 2025) EndedAt: 2025-11-20 15:05:01 -0500 (Thu, 20 Nov 2025) EllapsedTime: 6.0 seconds RetCode: 0 Status: OK