Package: GSAR Version: 1.43.2 Command: /Library/Frameworks/R.framework/Resources/bin/R CMD INSTALL GSAR StartedAt: 2025-10-17 15:07:38 -0400 (Fri, 17 Oct 2025) EndedAt: 2025-10-17 15:08:32 -0400 (Fri, 17 Oct 2025) EllapsedTime: 53.8 seconds RetCode: 0 Status: OK