Package: GSAR Version: 1.43.2 Command: /Library/Frameworks/R.framework/Resources/bin/R CMD build --keep-empty-dirs --no-resave-data GSAR StartedAt: 2025-10-15 17:29:20 -0400 (Wed, 15 Oct 2025) EndedAt: 2025-10-15 17:35:30 -0400 (Wed, 15 Oct 2025) EllapsedTime: 370.2 seconds RetCode: 0 Status: OK PackageFile: GSAR_1.43.2.tar.gz PackageFileSize: 1.774 MiB