Package: GSAR Version: 1.43.2 Command: rm -rf GSAR.buildbin-libdir && mkdir GSAR.buildbin-libdir && /Users/biocbuild/BBS/utils/build-universal.sh GSAR_1.43.2.tar.gz /Library/Frameworks/R.framework/Resources/bin/R GSAR.buildbin-libdir StartedAt: 2025-10-16 02:56:48 -0400 (Thu, 16 Oct 2025) EndedAt: 2025-10-16 02:56:57 -0400 (Thu, 16 Oct 2025) EllapsedTime: 9.3 seconds RetCode: 0 Status: OK PackageFile: GSAR_1.43.2.tgz PackageFileSize: 3.477 MiB