Package: GSAR Version: 1.43.2 Command: /Library/Frameworks/R.framework/Resources/bin/R CMD INSTALL GSAR StartedAt: 2025-10-03 15:03:25 -0400 (Fri, 03 Oct 2025) EndedAt: 2025-10-03 15:03:33 -0400 (Fri, 03 Oct 2025) EllapsedTime: 7.9 seconds RetCode: 0 Status: OK