Package: GSAR Version: 1.43.2 Command: /Library/Frameworks/R.framework/Resources/bin/R CMD build --keep-empty-dirs --no-resave-data GSAR StartedAt: 2025-10-03 16:37:26 -0400 (Fri, 03 Oct 2025) EndedAt: 2025-10-03 16:39:27 -0400 (Fri, 03 Oct 2025) EllapsedTime: 121.3 seconds RetCode: 0 Status: OK PackageFile: GSAR_1.43.2.tar.gz PackageFileSize: 1.777 MiB