Package: GSAR Version: 1.45.0 Maintainer: Yasir Rahmatallah , Galina Glazko MaintainerEmail: gvglazko at uams.edu git_url: https://git.bioconductor.org/packages/GSAR git_branch: devel git_last_commit: 25443bb git_last_commit_date: 2025-10-29 10:19:55 -0400 (Wed, 29 Oct 2025)