Package: GSALightning Version: 1.37.0 Command: /home/biocbuild/bbs-3.22-bioc/R/bin/R CMD check --install=check:GSALightning.install-out.txt --library=/home/biocbuild/bbs-3.22-bioc/R/site-library --timings GSALightning_1.37.0.tar.gz StartedAt: 2025-10-17 01:38:33 -0400 (Fri, 17 Oct 2025) EndedAt: 2025-10-17 01:40:06 -0400 (Fri, 17 Oct 2025) EllapsedTime: 93.1 seconds RetCode: 0 Status: OK CheckDir: GSALightning.Rcheck Warnings: 0