Package: GSALightning Version: 1.39.0 Command: /home/biocbuild/bbs-3.23-bioc/R/bin/R CMD INSTALL GSALightning StartedAt: 2025-11-03 15:04:50 -0500 (Mon, 03 Nov 2025) EndedAt: 2025-11-03 15:04:55 -0500 (Mon, 03 Nov 2025) EllapsedTime: 5.6 seconds RetCode: 0 Status: OK