Package: GSALightning Version: 1.39.0 Command: /home/biocbuild/bbs-3.23-bioc/R/bin/R CMD build --keep-empty-dirs --no-resave-data GSALightning StartedAt: 2025-11-02 17:56:49 -0500 (Sun, 02 Nov 2025) EndedAt: 2025-11-02 17:57:48 -0500 (Sun, 02 Nov 2025) EllapsedTime: 59.0 seconds RetCode: 0 Status: OK PackageFile: GSALightning_1.39.0.tar.gz PackageFileSize: 4.258 MiB