Package: GSALightning Version: 1.37.0 Command: /Library/Frameworks/R.framework/Resources/bin/R CMD INSTALL GSALightning StartedAt: 2025-09-30 15:07:18 -0400 (Tue, 30 Sep 2025) EndedAt: 2025-09-30 15:07:50 -0400 (Tue, 30 Sep 2025) EllapsedTime: 31.9 seconds RetCode: 0 Status: OK