Package: GSALightning Version: 1.37.0 Command: /Library/Frameworks/R.framework/Resources/bin/R CMD build --keep-empty-dirs --no-resave-data GSALightning StartedAt: 2025-10-01 17:14:00 -0400 (Wed, 01 Oct 2025) EndedAt: 2025-10-01 17:15:17 -0400 (Wed, 01 Oct 2025) EllapsedTime: 76.5 seconds RetCode: 0 Status: OK PackageFile: GSALightning_1.37.0.tar.gz PackageFileSize: 4.272 MiB