Package: GRmetrics Version: 1.37.0 Command: /home/biocbuild/bbs-3.23-bioc/R/bin/R CMD INSTALL GRmetrics StartedAt: 2025-11-20 15:23:35 -0500 (Thu, 20 Nov 2025) EndedAt: 2025-11-20 15:23:56 -0500 (Thu, 20 Nov 2025) EllapsedTime: 20.7 seconds RetCode: 0 Status: OK